BEGIN:VCALENDAR
VERSION:2.0
PRODID:-//Sabre//Sabre VObject 4.5.8//EN
CALSCALE:GREGORIAN
BEGIN:VEVENT
UID:criticalmass-one-schwabisch-gmund-1768582800
DTSTAMP:20260424T093124Z
SUMMARY:Critical Mass Schwäbisch Gmünd 16.01.2026
DTSTART;TZID=Europe/Berlin:20260116T180000
DTEND;TZID=Europe/Berlin:20260116T200000
LOCATION:Bahnhof Schwäbisch Gmünd
GEO:48.800843;9.788389
URL;VALUE=URI:https://criticalmass.in/schwabisch-gmund/2026-01-16
END:VEVENT
END:VCALENDAR
