BEGIN:VCALENDAR
VERSION:2.0
PRODID:-//Sabre//Sabre VObject 4.5.8//EN
CALSCALE:GREGORIAN
BEGIN:VEVENT
UID:criticalmass-one-schwabisch-gmund-1763744400
DTSTAMP:20260425T165833Z
SUMMARY:Critical Mass Schwäbisch Gmünd 21.11.2025
DTSTART;TZID=Europe/Berlin:20251121T180000
DTEND;TZID=Europe/Berlin:20251121T200000
LOCATION:Bahnhof Schwäbisch Gmünd
GEO:48.800843;9.788389
URL;VALUE=URI:https://criticalmass.in/schwabisch-gmund/2025-11-21
END:VEVENT
END:VCALENDAR
