BEGIN:VCALENDAR
VERSION:2.0
PRODID:-//Sabre//Sabre VObject 4.5.8//EN
CALSCALE:GREGORIAN
BEGIN:VEVENT
UID:criticalmass-one-schwabisch-gmund-1715958000
DTSTAMP:20260425T141414Z
SUMMARY:Critical Mass Schwäbisch Gmünd 17.05.2024
DTSTART;TZID=Europe/Berlin:20240517T170000
DTEND;TZID=Europe/Berlin:20240517T190000
LOCATION:Bahnhof Schwäbisch Gmünd
GEO:48.800899;9.788625
URL;VALUE=URI:https://criticalmass.in/schwabisch-gmund/2024-05-17
END:VEVENT
END:VCALENDAR
