BEGIN:VCALENDAR
VERSION:2.0
PRODID:-//Sabre//Sabre VObject 4.5.8//EN
CALSCALE:GREGORIAN
BEGIN:VEVENT
UID:criticalmass-one-schwabisch-gmund-1697814000
DTSTAMP:20260424T093054Z
SUMMARY:Critical Mass Schwäbisch Gmünd 20.10.2023
DTSTART;TZID=Europe/Berlin:20231020T170000
DTEND;TZID=Europe/Berlin:20231020T190000
LOCATION:Bahnhof Schwäbisch Gmünd
GEO:48.800899;9.788625
URL;VALUE=URI:https://criticalmass.in/schwabisch-gmund/2023-10-20
END:VEVENT
END:VCALENDAR
