BEGIN:VCALENDAR
VERSION:2.0
PRODID:-//Sabre//Sabre VObject 4.5.8//EN
CALSCALE:GREGORIAN
BEGIN:VEVENT
UID:criticalmass-one-schwabisch-gmund-1695459600
DTSTAMP:20260425T035602Z
SUMMARY:Kidical Mass Schwäbisch Gmünd 23.09.2023
DESCRIPTION:Los geht's um 10:30 Uhr mit kleinen kostenlosen Fahrradreparatu
 ren. Die Rundfahrt durch die Stadt beginnt um 11 Uhr. Die Strecke führt v
 om Bahnhof über den Kreisverkehr am ZOB zurück über die Bahnhofstraße 
 - Remsstraße - Baldungstraße - Königsturmstraße - Klösterlestraße - 
 Rektor-Klaus-Straße - wieder am Bahnhof vorbei und dann über die Lederga
 sse auf den Marktplatz. Im Anschluss gibt es die Möglichkeit zu einem kos
 tenlosen RadCheck. Alle teilnehmenden Kinder erhalten ein 7-teiliges Erste
 -Hilfe-Set (mit freundlicher Unterstützung von Fahrrad Schmidt) Die Rundf
 ahrt wird von Ordnungsamt und Polizei begleitet.
DTSTART;TZID=Europe/Berlin:20230923T110000
DTEND;TZID=Europe/Berlin:20230923T130000
LOCATION:Bahnhof Schwäbisch Gmünd
URL;VALUE=URI:https://criticalmass.in/schwabisch-gmund/2023-09-23
END:VEVENT
END:VCALENDAR
