BEGIN:VCALENDAR
VERSION:2.0
PRODID:-//Sabre//Sabre VObject 4.5.8//EN
CALSCALE:GREGORIAN
BEGIN:VEVENT
UID:criticalmass-one-schwabisch-gmund-1692370800
DTSTAMP:20260424T180203Z
SUMMARY:Critical Mass Schwäbisch Gmünd 18.08.2023
DTSTART;TZID=Europe/Berlin:20230818T170000
DTEND;TZID=Europe/Berlin:20230818T190000
LOCATION:Bahnhof Schwäbisch Gmünd
GEO:48.800899;9.788625
URL;VALUE=URI:https://criticalmass.in/schwabisch-gmund/2023-08-18
END:VEVENT
END:VCALENDAR
