BEGIN:VCALENDAR
VERSION:2.0
PRODID:-//Sabre//Sabre VObject 4.5.8//EN
CALSCALE:GREGORIAN
BEGIN:VEVENT
UID:criticalmass-one-schorndorf-1732897800
DTSTAMP:20260424T105955Z
SUMMARY:Critical Mass Schorndorf 29.11.2024
DTSTART;TZID=Europe/Berlin:20241129T173000
DTEND;TZID=Europe/Berlin:20241129T193000
LOCATION:Oberer Marktplatz
GEO:48.805486;9.527292
URL;VALUE=URI:https://criticalmass.in/schorndorf/2024-11-29
END:VEVENT
END:VCALENDAR
