BEGIN:VCALENDAR
VERSION:2.0
PRODID:-//Sabre//Sabre VObject 4.5.8//EN
CALSCALE:GREGORIAN
BEGIN:VEVENT
UID:criticalmass-one-schorndorf-1719588600
DTSTAMP:20260422T202541Z
SUMMARY:Critical Mass Schorndorf 28.06.2024
DTSTART;TZID=Europe/Berlin:20240628T173000
DTEND;TZID=Europe/Berlin:20240628T193000
LOCATION:Oberer Marktplatz
GEO:48.805486;9.527292
URL;VALUE=URI:https://criticalmass.in/schorndorf/2024-06-28
END:VEVENT
END:VCALENDAR
