BEGIN:VCALENDAR
VERSION:2.0
PRODID:-//Sabre//Sabre VObject 4.5.8//EN
CALSCALE:GREGORIAN
BEGIN:VEVENT
UID:criticalmass-one-schorndorf-1659108600
DTSTAMP:20260424T105944Z
SUMMARY:Critical Mass Schorndorf 29.07.2022
DTSTART;TZID=Europe/Berlin:20220729T173000
DTEND;TZID=Europe/Berlin:20220729T193000
LOCATION:Oberer Marktplatz Schorndorf
GEO:48.805341;9.527260
URL;VALUE=URI:https://criticalmass.in/schorndorf/2022-07-29
END:VEVENT
END:VCALENDAR
