BEGIN:VCALENDAR
VERSION:2.0
PRODID:-//Sabre//Sabre VObject 4.5.8//EN
CALSCALE:GREGORIAN
BEGIN:VEVENT
UID:criticalmass-one-schorndorf-1635525000
DTSTAMP:20260422T105427Z
SUMMARY:Critical Mass Schorndorf 29.10.2021
DTSTART;TZID=Europe/Berlin:20211029T183000
DTEND;TZID=Europe/Berlin:20211029T203000
LOCATION:Oberer Marktplatz Schorndorf
GEO:48.805341;9.527260
URL;VALUE=URI:https://criticalmass.in/schorndorf/2021-10-29
END:VEVENT
END:VCALENDAR
