BEGIN:VCALENDAR
VERSION:2.0
PRODID:-//Sabre//Sabre VObject 4.5.8//EN
CALSCALE:GREGORIAN
BEGIN:VEVENT
UID:criticalmass-one-schorndorf-1624636800
DTSTAMP:20260423T021915Z
SUMMARY:Critical Mass Schorndorf
DTSTART;TZID=Europe/Berlin:20210625T180000
DTEND;TZID=Europe/Berlin:20210625T200000
LOCATION:Marktplatz Schorndorf
GEO:48.805351;9.527206
URL;VALUE=URI:https://criticalmass.in/schorndorf/2021-06-25
END:VEVENT
END:VCALENDAR
