BEGIN:VCALENDAR
VERSION:2.0
PRODID:-//Sabre//Sabre VObject 4.5.8//EN
CALSCALE:GREGORIAN
BEGIN:VEVENT
UID:criticalmass-one-schifferstadt-1652515200
DTSTAMP:20260422T124003Z
SUMMARY:Kidical Mass Schifferstadt 14.05.2022
DTSTART;TZID=Europe/Berlin:20220514T100000
DTEND;TZID=Europe/Berlin:20220514T120000
LOCATION:Käthe-Kollwitz-Platz
GEO:49.387501;8.385945
URL;VALUE=URI:https://criticalmass.in/schifferstadt/kidical-mass-schifferst
 adt-mai-2022
END:VEVENT
END:VCALENDAR
