BEGIN:VCALENDAR
VERSION:2.0
PRODID:-//Sabre//Sabre VObject 4.5.8//EN
CALSCALE:GREGORIAN
BEGIN:VEVENT
UID:criticalmass-one-santa-fe-1769857200
DTSTAMP:20260422T054028Z
SUMMARY:Alex Pretti Memorial Ride — Ride4Rights
DESCRIPTION:This Saturday\, meet at the Santa Fe Railyard by the water towe
 r. 11 a.m. meetup\, 11:30 a.m. roll-out. 
DTSTART;TZID=America/Denver:20260131T040000
DTEND;TZID=America/Denver:20260131T060000
LOCATION:Santa Fe Railyard\, Santa Fe
GEO:35.680654;-105.950604
URL;VALUE=URI:https://criticalmass.in/santa-fe/alex-pretti-memorial-ride-sa
 nta-fe-2026-01-31
END:VEVENT
END:VCALENDAR
