BEGIN:VCALENDAR
VERSION:2.0
PRODID:-//Sabre//Sabre VObject 4.5.8//EN
CALSCALE:GREGORIAN
BEGIN:VEVENT
UID:criticalmass-one-sankt-augustin-1748174400
DTSTAMP:20260424T221812Z
SUMMARY:Kidical Mass Sankt Augustin 25.05.2025
DESCRIPTION:Die Kidical Mass findet als gemeinsame Veranstaltung der ADFC O
 rtsgruppen Sankt Augustin und Siegburg statt. Beide Gruppen haben untersch
 iedliche Startpunkte in ihren Städten\, treffen sich jedoch unterwegs und
  fahren den Großteil der Route zum gemeinsamen Ziel am Karl-Gatzweiler-Pl
 atz in Sankt Augustin. Am Ziel wird es dann verschiedene Aktivitäten gebe
 n.
DTSTART;TZID=Europe/Berlin:20250525T140000
DTEND;TZID=Europe/Berlin:20250525T160000
LOCATION:Sankt Augustin Karl-Gatzweiler-Platz
GEO:50.777193;7.186708
URL;VALUE=URI:https://criticalmass.in/sankt-augustin/kidical-mass-sankt-aug
 ustin-mai-2025
END:VEVENT
END:VCALENDAR
