BEGIN:VCALENDAR
VERSION:2.0
PRODID:-//Sabre//Sabre VObject 4.5.8//EN
CALSCALE:GREGORIAN
BEGIN:VEVENT
UID:criticalmass-one-sankt-augustin-1714910400
DTSTAMP:20260424T194329Z
SUMMARY:Kidical Mass Sankt Augustin 05.05.2024
DESCRIPTION:Die Veranstaltung findet in Kooperation mit der Kidical Mass Si
 egburg statt. Beide Touren fahren jeweils unterschiedliche Routen\, enden 
 jedoch gemeinsam in der Siegburg Innenstadt mit Spielmobil\, Kinderschmink
 en\, Seifenblasen-Fahrrad\, Kuchen und Fahrradcodierung.
DTSTART;TZID=Europe/Berlin:20240505T140000
DTEND;TZID=Europe/Berlin:20240505T160000
LOCATION:Sankt Augustin Kapellenplatz\, Parkplatz an der Ecke Bonner Str./M
 eerstr.
GEO:50.784871;7.197329
URL;VALUE=URI:https://criticalmass.in/sankt-augustin/kidical-mass-sankt-aug
 ustin-mai-2024
END:VEVENT
END:VCALENDAR
