BEGIN:VCALENDAR
VERSION:2.0
PRODID:-//Sabre//Sabre VObject 4.5.8//EN
CALSCALE:GREGORIAN
BEGIN:VEVENT
UID:criticalmass-one-san-jose-1769866200
DTSTAMP:20260422T161413Z
SUMMARY:Alex Pretti Memorial Ride — Upshift Cycles
DESCRIPTION:This will be a chill pace\, no-drop ride\, under 10 miles\, an 
 easy loop through our city. Rolling at 1:30pm\, all are welcome.
DTSTART;TZID=America/Los_Angeles:20260131T053000
DTEND;TZID=America/Los_Angeles:20260131T073000
LOCATION:San Jose
GEO:37.332185;-121.912292
URL;VALUE=URI:https://criticalmass.in/san-jose/alex-pretti-memorial-ride-sa
 n-jose-2026-01-31
END:VEVENT
END:VCALENDAR
