BEGIN:VCALENDAR
VERSION:2.0
PRODID:-//Sabre//Sabre VObject 4.5.8//EN
CALSCALE:GREGORIAN
BEGIN:VEVENT
UID:criticalmass-one-san-francisco-1769845500
DTSTAMP:20260423T190848Z
SUMMARY:Alex Pretti Memorial Ride Fairfax — Marin Cyclists
DESCRIPTION:Split Rock Tap and Wheel\,\n  Fairfax\, CA\n1/31 Meet at 8:45\,
  Roll at 9\; In collaboration with the Marin County Bicycle\n  Coalition
DTSTART;TZID=Europe/Berlin:20260131T084500
DTEND;TZID=Europe/Berlin:20260131T104500
LOCATION:Split Rock Tap and Wheel\, Fairfax
GEO:37.988200;-122.590472
URL;VALUE=URI:https://criticalmass.in/san-francisco/alex-pretti-memorial-ri
 de-fairfax-2026-01-31
END:VEVENT
END:VCALENDAR
