BEGIN:VCALENDAR
VERSION:2.0
PRODID:-//Sabre//Sabre VObject 4.5.8//EN
CALSCALE:GREGORIAN
BEGIN:VEVENT
UID:criticalmass-one-san-antonio-1769864400
DTSTAMP:20260421T201720Z
SUMMARY:Alex Pretti Memorial Ride — TRAVIESOS BICYCLE CLUB
DESCRIPTION:Meet at Make Ready Market this Saturday at 1 p.m. for a 1:30 p.
 m. roll-out. 
DTSTART;TZID=America/Chicago:20260131T070000
DTEND;TZID=America/Chicago:20260131T090000
LOCATION:Make Ready Market\, San Antonio
GEO:29.433241;-98.483456
URL;VALUE=URI:https://criticalmass.in/san-antonio/alex-pretti-memorial-ride
 -san-antonio-2026-01-31-2
END:VEVENT
END:VCALENDAR
