BEGIN:VCALENDAR
VERSION:2.0
PRODID:-//Sabre//Sabre VObject 4.5.8//EN
CALSCALE:GREGORIAN
BEGIN:VEVENT
UID:criticalmass-one-salzburg-1624633200
DTSTAMP:20260426T022856Z
SUMMARY:Critical Mass Salzburg 25.06.2021
DTSTART;TZID=Europe/Zurich:20210625T170000
DTEND;TZID=Europe/Zurich:20210625T190000
LOCATION:Kurpark am Kongresshaus
GEO:47.806036;13.041394
URL;VALUE=URI:https://criticalmass.in/salzburg/2021-06-25
END:VEVENT
END:VCALENDAR
