BEGIN:VCALENDAR
VERSION:2.0
PRODID:-//Sabre//Sabre VObject 4.5.8//EN
CALSCALE:GREGORIAN
BEGIN:VEVENT
UID:criticalmass-one-salida-1769886000
DTSTAMP:20260422T162626Z
SUMMARY:Alex Pretti Memorial Ride — Todd Gillman
DESCRIPTION:Join the Salida\, Colorado crew Saturday at high noon as we gat
 her at the F Street caboose to venture out on an all-ages and abilities bi
 cycle ride to remember and support the neighbors and cycling community tha
 t we love so damn much.
DTSTART;TZID=America/Denver:20260131T120000
DTEND;TZID=America/Denver:20260131T140000
LOCATION:F Street caboose\, Salida
GEO:38.523995;-105.995006
URL;VALUE=URI:https://criticalmass.in/salida/alex-pretti-memorial-ride-sali
 da-2026-01-31-2
END:VEVENT
END:VCALENDAR
