BEGIN:VCALENDAR
VERSION:2.0
PRODID:-//Sabre//Sabre VObject 4.5.8//EN
CALSCALE:GREGORIAN
BEGIN:VEVENT
UID:criticalmass-one-salem-1769886000
DTSTAMP:20260423T190850Z
SUMMARY:Alex Pretti Memorial Ride — Salem's Social Cyclists
DESCRIPTION:1/31: Meet at the bottom of the Bush Park soapbox derby track. 
 Meet 11\, wheels down 11:30.
DTSTART;TZID=America/Los_Angeles:20260131T110000
DTEND;TZID=America/Los_Angeles:20260131T130000
LOCATION:Bush Park soapbox derby track\, Salem
GEO:44.929878;-123.037466
URL;VALUE=URI:https://criticalmass.in/salem/alex-pretti-memorial-ride-salem
 -2026-01-31
END:VEVENT
END:VCALENDAR
