BEGIN:VCALENDAR
VERSION:2.0
PRODID:-//Sabre//Sabre VObject 4.5.8//EN
CALSCALE:GREGORIAN
BEGIN:VEVENT
UID:criticalmass-one-sacramento-1769857200
DTSTAMP:20260422T044859Z
SUMMARY:Alex Pretti Memorial Ride — Friends of Sacramento
DESCRIPTION:This Saturday at the Cesar E. Chavez Plaza\, 11 a.m. meetup\, 1
 1:30 a.m. roll-out. 
DTSTART;TZID=America/Los_Angeles:20260131T030000
DTEND;TZID=America/Los_Angeles:20260131T050000
LOCATION:Cesar E. Chavez Plaza\, Sacramento
GEO:38.581291;-121.493805
URL;VALUE=URI:https://criticalmass.in/sacramento/alex-pretti-memorial-ride-
 sacramento-2026-01-31
END:VEVENT
END:VCALENDAR
