BEGIN:VCALENDAR
VERSION:2.0
PRODID:-//Sabre//Sabre VObject 4.5.8//EN
CALSCALE:GREGORIAN
BEGIN:VEVENT
UID:criticalmass-one-rottweil-1695459600
DTSTAMP:20260426T011445Z
SUMMARY:Kidical Mass Rottweil 23.09.2023
DTSTART;TZID=Europe/Berlin:20230923T110000
DTEND;TZID=Europe/Berlin:20230923T130000
LOCATION:Kapellenhof Rottweil
GEO:48.167444;8.628238
URL;VALUE=URI:https://criticalmass.in/rottweil/kidical-mass-rottweil-septem
 ber-2023
END:VEVENT
END:VCALENDAR
