BEGIN:VCALENDAR
VERSION:2.0
PRODID:-//Sabre//Sabre VObject 4.5.8//EN
CALSCALE:GREGORIAN
BEGIN:VEVENT
UID:criticalmass-one-rottweil-1714813200
DTSTAMP:20260421T182508Z
SUMMARY:Kidical Mass Rottweil 04.05.2024
DESCRIPTION:Ab 10:30 könnt ihr eure Fahrräder auf dem Kapellenhof schmüc
 ken. Um 11:00 startet unsere Kidical Mass und wir fahren eine große Runde
  durch die Stadt\, bis zum Spielplatz am Nägelesgraben. Dort gibt es noch
  was zu trinken sowie Info Material\, Sticker und Tattoos! 
DTSTART;TZID=Europe/Berlin:20240504T110000
DTEND;TZID=Europe/Berlin:20240504T130000
LOCATION:Rottweil Kapellenhof Rottweil 
GEO:48.167444;8.628238
URL;VALUE=URI:https://criticalmass.in/rottweil/kidical-mass-rottweil-mai-20
 24
END:VEVENT
END:VCALENDAR
