BEGIN:VCALENDAR
VERSION:2.0
PRODID:-//Sabre//Sabre VObject 4.5.8//EN
CALSCALE:GREGORIAN
BEGIN:VEVENT
UID:criticalmass-one-rostock-1698426000
DTSTAMP:20260425T105623Z
SUMMARY:Halloween Critical Mass
DTSTART;TZID=Europe/Berlin:20231027T190000
DTEND;TZID=Europe/Berlin:20231027T210000
LOCATION:Doberaner Platz
GEO:54.088248;12.123172
URL;VALUE=URI:https://criticalmass.in/rostock/2023-10-27
END:VEVENT
END:VCALENDAR
