BEGIN:VCALENDAR
VERSION:2.0
PRODID:-//Sabre//Sabre VObject 4.5.8//EN
CALSCALE:GREGORIAN
BEGIN:VEVENT
UID:criticalmass-one-rosrath-1664107200
DTSTAMP:20260424T215620Z
SUMMARY:Kidical Mass Rösrath 25.09.2022
DTSTART;TZID=Europe/Berlin:20220925T140000
DTEND;TZID=Europe/Berlin:20220925T160000
LOCATION:Schulhof GGS Hoffnungsthal
URL;VALUE=URI:https://criticalmass.in/rosrath/kidical-mass-rosrath-septembe
 r-2022
END:VEVENT
END:VCALENDAR
