BEGIN:VCALENDAR
VERSION:2.0
PRODID:-//Sabre//Sabre VObject 4.5.8//EN
CALSCALE:GREGORIAN
BEGIN:VEVENT
UID:criticalmass-one-rosrath-1746349200
DTSTAMP:20260425T175309Z
SUMMARY:Kidical Mass Rösrath 04.05.2025
DTSTART;TZID=Europe/Berlin:20250504T110000
DTEND;TZID=Europe/Berlin:20250504T130000
LOCATION:Rösrath Kleineichen Friedhof\,
GEO:50.906516;7.148762
URL;VALUE=URI:https://criticalmass.in/rosrath/kidical-mass-rosrath-mai-2025
END:VEVENT
END:VCALENDAR
