BEGIN:VCALENDAR
VERSION:2.0
PRODID:-//Sabre//Sabre VObject 4.5.8//EN
CALSCALE:GREGORIAN
BEGIN:VEVENT
UID:criticalmass-one-rheine-1585328400
DTSTAMP:20260422T230430Z
SUMMARY:Critical Mass Rheine 27.03.2020
DTSTART;TZID=Europe/Berlin:20200327T180000
DTEND;TZID=Europe/Berlin:20200327T200000
LOCATION:Rathaus Rheine
GEO:52.277407;7.438645
URL;VALUE=URI:https://criticalmass.in/rheine/2020-03-27
END:VEVENT
END:VCALENDAR
