BEGIN:VCALENDAR
VERSION:2.0
PRODID:-//Sabre//Sabre VObject 4.5.8//EN
CALSCALE:GREGORIAN
BEGIN:VEVENT
UID:criticalmass-one-rheine-1580490000
DTSTAMP:20260423T084021Z
SUMMARY:Critical Mass Rheine 31.01.2020
DESCRIPTION:War wie immer eine entspannte Tour mit chilliger Musik und ange
 nehme Leuten\, gknappe 10 km und perfektes Wetter\,  einige Kreisverkehre 
 mehrfach umrundet. Irgendwie ist im Winter auch immer nett mit den vielen 
 Blinkis!!!
DTSTART;TZID=Europe/Berlin:20200131T180000
DTEND;TZID=Europe/Berlin:20200131T200000
LOCATION:Rathaus Rheine
GEO:52.277407;7.438645
URL;VALUE=URI:https://criticalmass.in/rheine/2020-01-31
END:VEVENT
END:VCALENDAR
