BEGIN:VCALENDAR
VERSION:2.0
PRODID:-//Sabre//Sabre VObject 4.5.8//EN
CALSCALE:GREGORIAN
BEGIN:VEVENT
UID:criticalmass-one-rheine-1572019200
DTSTAMP:20260422T133407Z
SUMMARY:Critical Mass Rheine 25.10.2019
DTSTART;TZID=Europe/Berlin:20191025T180000
DTEND;TZID=Europe/Berlin:20191025T200000
LOCATION:Rathaus Rheine
GEO:52.277407;7.438645
URL;VALUE=URI:https://criticalmass.in/rheine/2019-10-25
END:VEVENT
END:VCALENDAR
