BEGIN:VCALENDAR
VERSION:2.0
PRODID:-//Sabre//Sabre VObject 4.5.8//EN
CALSCALE:GREGORIAN
BEGIN:VEVENT
UID:criticalmass-one-rheine-1567180800
DTSTAMP:20260421T100413Z
SUMMARY:Critical Mass Rheine 30.08.2019
DTSTART;TZID=Europe/Berlin:20190830T180000
DTEND;TZID=Europe/Berlin:20190830T200000
LOCATION:Rathaus Rheine
GEO:52.277407;7.438645
URL;VALUE=URI:https://criticalmass.in/rheine/2019-08-30
END:VEVENT
END:VCALENDAR
