BEGIN:VCALENDAR
VERSION:2.0
PRODID:-//Sabre//Sabre VObject 4.5.8//EN
CALSCALE:GREGORIAN
BEGIN:VEVENT
UID:criticalmass-one-rheine-1553878800
DTSTAMP:20260422T100006Z
SUMMARY:Critical Mass Rheine 29.03.2019
DTSTART;TZID=Europe/Berlin:20190329T180000
DTEND;TZID=Europe/Berlin:20190329T200000
LOCATION:Rathaus Rheine
GEO:52.277407;7.438645
URL;VALUE=URI:https://criticalmass.in/rheine/2019-03-29
END:VEVENT
END:VCALENDAR
