BEGIN:VCALENDAR
VERSION:2.0
PRODID:-//Sabre//Sabre VObject 4.5.8//EN
CALSCALE:GREGORIAN
BEGIN:VEVENT
UID:criticalmass-one-rheinberg-1663502400
DTSTAMP:20260423T233637Z
SUMMARY:Kidical Mass Rheinberg 18.09.2022
DTSTART;TZID=Europe/Berlin:20220918T140000
DTEND;TZID=Europe/Berlin:20220918T160000
LOCATION:Marktplatz
URL;VALUE=URI:https://criticalmass.in/rheinberg/kidical-mass-rheinberg-sept
 ember-2022
END:VEVENT
END:VCALENDAR
