BEGIN:VCALENDAR
VERSION:2.0
PRODID:-//Sabre//Sabre VObject 4.5.8//EN
CALSCALE:GREGORIAN
BEGIN:VEVENT
UID:criticalmass-one-rheinberg-1684674000
DTSTAMP:20260424T040522Z
SUMMARY:Kidical Mass Rheinberg 21.05.2023
DTSTART;TZID=Europe/Berlin:20230521T150000
DTEND;TZID=Europe/Berlin:20230521T170000
LOCATION:Stadthaus Rheinberg
GEO:51.546080;6.589910
URL;VALUE=URI:https://criticalmass.in/rheinberg/kidical-mass-rheinberg-mai-
 2023
END:VEVENT
END:VCALENDAR
