BEGIN:VCALENDAR
VERSION:2.0
PRODID:-//Sabre//Sabre VObject 4.5.8//EN
CALSCALE:GREGORIAN
BEGIN:VEVENT
UID:criticalmass-one-reutlingen-1735318800
DTSTAMP:20260422T060228Z
SUMMARY:Critical Mass Reutlingen 27.12.2024
DTSTART;TZID=Europe/Berlin:20241227T180000
DTEND;TZID=Europe/Berlin:20241227T200000
LOCATION:Stadthalle
GEO:48.491576;9.206670
URL;VALUE=URI:https://criticalmass.in/reutlingen/2024-12-27
END:VEVENT
END:VCALENDAR
