BEGIN:VCALENDAR
VERSION:2.0
PRODID:-//Sabre//Sabre VObject 4.5.8//EN
CALSCALE:GREGORIAN
BEGIN:VEVENT
UID:criticalmass-one-reutlingen-1711731600
DTSTAMP:20260423T084805Z
SUMMARY:Critical Mass Reutlingen 29.03.2024
DTSTART;TZID=Europe/Berlin:20240329T180000
DTEND;TZID=Europe/Berlin:20240329T200000
LOCATION:Stadthalle
GEO:48.491576;9.206670
URL;VALUE=URI:https://criticalmass.in/reutlingen/2024-03-29
END:VEVENT
END:VCALENDAR
