BEGIN:VCALENDAR
VERSION:2.0
PRODID:-//Sabre//Sabre VObject 4.5.8//EN
CALSCALE:GREGORIAN
BEGIN:VEVENT
UID:criticalmass-one-reutlingen-1651248000
DTSTAMP:20260422T060402Z
SUMMARY:Critical Mass Reutlingen 29.04.2022
DTSTART;TZID=Europe/Berlin:20220429T180000
DTEND;TZID=Europe/Berlin:20220429T200000
LOCATION:Stadthalle
GEO:48.491576;9.206670
URL;VALUE=URI:https://criticalmass.in/reutlingen/2022-04-29
END:VEVENT
END:VCALENDAR
