BEGIN:VCALENDAR
VERSION:2.0
PRODID:-//Sabre//Sabre VObject 4.5.8//EN
CALSCALE:GREGORIAN
BEGIN:VEVENT
UID:criticalmass-one-reutlingen-1648227600
DTSTAMP:20260423T084855Z
SUMMARY:Critical Mass Reutlingen 25.03.2022
DTSTART;TZID=Europe/Berlin:20220325T180000
DTEND;TZID=Europe/Berlin:20220325T200000
LOCATION:Stadthalle
GEO:48.491576;9.206670
URL;VALUE=URI:https://criticalmass.in/reutlingen/2022-03-25
END:VEVENT
END:VCALENDAR
