BEGIN:VCALENDAR
VERSION:2.0
PRODID:-//Sabre//Sabre VObject 4.5.8//EN
CALSCALE:GREGORIAN
BEGIN:VEVENT
UID:criticalmass-one-reutlingen-1645808400
DTSTAMP:20260422T114940Z
SUMMARY:Critical Mass Reutlingen 25.02.2022
DTSTART;TZID=Europe/Berlin:20220225T180000
DTEND;TZID=Europe/Berlin:20220225T200000
LOCATION:Stadthalle
GEO:48.491576;9.206670
URL;VALUE=URI:https://criticalmass.in/reutlingen/2022-02-25
END:VEVENT
END:VCALENDAR
