BEGIN:VCALENDAR
VERSION:2.0
PRODID:-//Sabre//Sabre VObject 4.5.8//EN
CALSCALE:GREGORIAN
BEGIN:VEVENT
UID:criticalmass-one-reutlingen-1624636800
DTSTAMP:20260423T064215Z
SUMMARY:Critical Mass Reutlingen 25.06.2021
DTSTART;TZID=Europe/Berlin:20210625T180000
DTEND;TZID=Europe/Berlin:20210625T200000
LOCATION:Stadthalle
GEO:48.491576;9.206670
URL;VALUE=URI:https://criticalmass.in/reutlingen/2021-06-25
END:VEVENT
END:VCALENDAR
