BEGIN:VCALENDAR
VERSION:2.0
PRODID:-//Sabre//Sabre VObject 4.5.8//EN
CALSCALE:GREGORIAN
BEGIN:VEVENT
UID:criticalmass-one-reutlingen-1598630400
DTSTAMP:20260424T100753Z
SUMMARY:Critical Mass Reutlingen 28.08.2020
DTSTART;TZID=Europe/Berlin:20200828T180000
DTEND;TZID=Europe/Berlin:20200828T200000
LOCATION:Stadthalle
GEO:48.491576;9.206670
URL;VALUE=URI:https://criticalmass.in/reutlingen/2020-08-28
END:VEVENT
END:VCALENDAR
