BEGIN:VCALENDAR
VERSION:2.0
PRODID:-//Sabre//Sabre VObject 4.5.8//EN
CALSCALE:GREGORIAN
BEGIN:VEVENT
UID:criticalmass-one-reutlingen-1572019200
DTSTAMP:20260422T231315Z
SUMMARY:Critical Mass Reutlingen 25.10.2019
DTSTART;TZID=Europe/Berlin:20191025T180000
DTEND;TZID=Europe/Berlin:20191025T200000
LOCATION:Stadthalle
GEO:48.491576;9.206670
URL;VALUE=URI:https://criticalmass.in/reutlingen/2019-10-25
END:VEVENT
END:VCALENDAR
