BEGIN:VCALENDAR
VERSION:2.0
PRODID:-//Sabre//Sabre VObject 4.5.8//EN
CALSCALE:GREGORIAN
BEGIN:VEVENT
UID:criticalmass-one-reutlingen-1548435600
DTSTAMP:20260423T084629Z
SUMMARY:Critical Mass Reutlingen 25.01.2019
DTSTART;TZID=Europe/Berlin:20190125T180000
DTEND;TZID=Europe/Berlin:20190125T200000
LOCATION:Stadthalle
GEO:48.491576;9.206670
URL;VALUE=URI:https://criticalmass.in/reutlingen/2019-01-25
END:VEVENT
END:VCALENDAR
