BEGIN:VCALENDAR
VERSION:2.0
PRODID:-//Sabre//Sabre VObject 4.5.8//EN
CALSCALE:GREGORIAN
BEGIN:VEVENT
UID:criticalmass-one-reutlingen-1511542800
DTSTAMP:20260423T112026Z
SUMMARY:Critical Mass Reutlingen 24.11.2017
DTSTART;TZID=Europe/Berlin:20171124T180000
DTEND;TZID=Europe/Berlin:20171124T200000
LOCATION:Stadthalle
GEO:48.491576;9.206670
URL;VALUE=URI:https://criticalmass.in/reutlingen/2017-11-24
END:VEVENT
END:VCALENDAR
