BEGIN:VCALENDAR
VERSION:2.0
PRODID:-//Sabre//Sabre VObject 4.5.8//EN
CALSCALE:GREGORIAN
BEGIN:VEVENT
UID:criticalmass-one-reutlingen-1493395200
DTSTAMP:20260423T020948Z
SUMMARY:Critical Mass Reutlingen 28.04.2017
DTSTART;TZID=Europe/Berlin:20170428T180000
DTEND;TZID=Europe/Berlin:20170428T200000
LOCATION:Stadthalle
GEO:48.491576;9.206670
URL;VALUE=URI:https://criticalmass.in/reutlingen/2017-04-28
END:VEVENT
END:VCALENDAR
