BEGIN:VCALENDAR
VERSION:2.0
PRODID:-//Sabre//Sabre VObject 4.5.8//EN
CALSCALE:GREGORIAN
BEGIN:VEVENT
UID:criticalmass-one-reutlingen-1456506000
DTSTAMP:20260423T084636Z
SUMMARY:Critical Mass Reutlingen 26.02.2016
DTSTART;TZID=Europe/Berlin:20160226T180000
DTEND;TZID=Europe/Berlin:20160226T200000
LOCATION:Stadthalle
GEO:48.491576;9.206670
URL;VALUE=URI:https://criticalmass.in/reutlingen/2016-02-26
END:VEVENT
END:VCALENDAR
