BEGIN:VCALENDAR
VERSION:2.0
PRODID:-//Sabre//Sabre VObject 4.5.8//EN
CALSCALE:GREGORIAN
BEGIN:VEVENT
UID:criticalmass-one-reutlingen-1438358400
DTSTAMP:20260423T113216Z
SUMMARY:Critical Mass Reutlingen 31.07.2015
DTSTART;TZID=Europe/Berlin:20150731T180000
DTEND;TZID=Europe/Berlin:20150731T200000
LOCATION:Stadthalle
GEO:48.491576;9.206670
URL;VALUE=URI:https://criticalmass.in/reutlingen/2015-07-31
END:VEVENT
END:VCALENDAR
