BEGIN:VCALENDAR
VERSION:2.0
PRODID:-//Sabre//Sabre VObject 4.5.8//EN
CALSCALE:GREGORIAN
BEGIN:VEVENT
UID:criticalmass-one-reutlingen-1403884800
DTSTAMP:20260423T113112Z
SUMMARY:Critical Mass Reutlingen 27.06.2014
DTSTART;TZID=Europe/Berlin:20140627T180000
DTEND;TZID=Europe/Berlin:20140627T200000
LOCATION:Stadthalle
GEO:48.491576;9.206670
URL;VALUE=URI:https://criticalmass.in/reutlingen/2014-06-27
END:VEVENT
END:VCALENDAR
