BEGIN:VCALENDAR
VERSION:2.0
PRODID:-//Sabre//Sabre VObject 4.5.8//EN
CALSCALE:GREGORIAN
BEGIN:VEVENT
UID:criticalmass-one-reutlingen-1396026000
DTSTAMP:20260423T021648Z
SUMMARY:Critical Mass Reutlingen 28.03.2014
DTSTART;TZID=Europe/Berlin:20140328T180000
DTEND;TZID=Europe/Berlin:20140328T200000
LOCATION:Stadthalle
GEO:48.491576;9.206670
URL;VALUE=URI:https://criticalmass.in/reutlingen/2014-03-28
END:VEVENT
END:VCALENDAR
