BEGIN:VCALENDAR
VERSION:2.0
PRODID:-//Sabre//Sabre VObject 4.5.8//EN
CALSCALE:GREGORIAN
BEGIN:VEVENT
UID:criticalmass-one-renningen-1726920000
DTSTAMP:20260425T131353Z
SUMMARY:Kidical Mass Renningen 21.09.2024
DESCRIPTION:Die Kinder sollen Freude am Radfahren bzw. an autonomer Mobilit
 ät erleben und vorgelebt bekommen. \n\nRoute: etwa 6km\, weitgehend flach
  \nab 14 Uhr Spiel und Spaß vor der Mediathek.\ngegen 15 Uhr Abfahrt\ngeg
 en 17 Uhr Ankunft
DTSTART;TZID=Europe/Berlin:20240921T140000
DTEND;TZID=Europe/Berlin:20240921T160000
LOCATION:Renningen Jahnstraße 11 (Mediathek)
GEO:48.768173;8.933604
URL;VALUE=URI:https://criticalmass.in/renningen/kidical-mass-renningen-sept
 ember-2024
END:VEVENT
END:VCALENDAR
